BEGIN:VCALENDAR
VERSION:2.0
PRODID:-//eventon.com NONSGML v1.0//EN
CALSCALE:GREGORIAN
METHOD:PUBLISH
BEGIN:VEVENT
UID:69e7654f5ef0c
DTSTAMP:20260421T115351Z
DTSTART:20241005T100000Z
DTEND:20241005T104500Z
LOCATION:Studio del Principe
SUMMARY:"Eleonora Duse. L’ultimo rifugio. Asolo e la Divina del teatro" di Mario Consani
DESCRIPTION:Presentazione di Eleonora Duse. L’ultimo rifugio. Asolo e la 
 Divina del teatro di Mario Consani a cura di Andrea Simionato. Dodici maggi
 o 1924\,  il finale annunciato. Nella cittadina veneta dove ha scelto di ri
 posare per sempre\,  va in scena l’ultimo spettacolo di Eleonora Duse –
  la più importante attrice di[..]\nhttps://www.libriincantina.it/events/el
 eonora-duse-lultimo-rifugio-asolo-e-la-divina-del-teatro-di-mario-consani/
URL:https://www.libriincantina.it/events/eleonora-duse-lultimo-rifugio-asolo-e-la-divina-del-teatro-di-mario-consani/
END:VEVENT
END:VCALENDAR