BEGIN:VCALENDAR
VERSION:2.0
PRODID:-//eventon.com NONSGML v1.0//EN
CALSCALE:GREGORIAN
METHOD:PUBLISH
BEGIN:VEVENT
UID:69e766bc05a2e
DTSTAMP:20260421T115956Z
DTSTART:20241005T083000Z
DTEND:20241005T093000Z
LOCATION:Sala dei Castelli
SUMMARY:Giovanni Montanaro\,  "Raccontare Marco Polo"
DESCRIPTION:A cura dell’Associazione Editori Veneti. Saluto della Preside
 nte Chiara Finesso. A 700 anni dalla morte (e 770 dalla nascita)\,  lo scri
 ttore veneziano Giovanni Montanaro si è occupato di Marco Polo contribuend
 o alla nuova edizione de Il Milione in lingua corrente (edito dalla Marsili
 o). Prenotazione su Eventbrite al seguente link: https://www.eventbrite.it/
 e/biglietti-giovanni-montanaro-raccontare-marco-polo-1012249484457\nhttps:/
 /www.libriincantina.it/events/giovanni-montanaro-raccontare-marco-polo/
URL:https://www.libriincantina.it/events/giovanni-montanaro-raccontare-marco-polo/
END:VEVENT
END:VCALENDAR