BEGIN:VCALENDAR
VERSION:2.0
PRODID:-//eventon.com NONSGML v1.0//EN
CALSCALE:GREGORIAN
METHOD:PUBLISH
BEGIN:VEVENT
UID:69e76579dd0c0
DTSTAMP:20260421T115433Z
DTSTART:20241004T164500Z
DTEND:20241004T184500Z
LOCATION:Biblioteca comunale
SUMMARY:Maratona di lettura
DESCRIPTION:L’Assessorato alla cultura della Regione del Veneto in colla
 borazione con la sezione regionale dell’Associazione Italiana Biblioteche
 \,  l’Ufficio Scolastico Regionale\,  l’Associazione Librai Italiani\,
   il Sindacato Italiano Librai Cartolibrai organizzano per venerdì 4 ottob
 re 2024 la ottava edizione della maratona di lettura  “Il Veneto legge
 . Anche quest’anno la Biblioteca comunale di Susegana ha aderito[..]\nht
 tps://www.libriincantina.it/events/maratona-di-lettura-2024/
URL:https://www.libriincantina.it/events/maratona-di-lettura-2024/
END:VEVENT
END:VCALENDAR