BEGIN:VCALENDAR
VERSION:2.0
PRODID:-//eventon.com NONSGML v1.0//EN
CALSCALE:GREGORIAN
METHOD:PUBLISH
BEGIN:VEVENT
UID:69eb3534f2a6e
DTSTAMP:20260424T091740Z
DTSTART:20191006T163000Z
DTEND:20191006T173000Z
LOCATION:Sala della Terrazza
SUMMARY:L’educatore turbato di Federico Montanari
DESCRIPTION:L’educatore turbato di Federico Montanari. Presentazione a cu
 ra di Gian Domenico Mazzocato. Biblioteca dei Leoni\nhttps://www.libriincan
 tina.it/events/leducatore-turbato-di-federico-montanari/
URL:https://www.libriincantina.it/events/leducatore-turbato-di-federico-montanari/
END:VEVENT
END:VCALENDAR