BEGIN:VCALENDAR
VERSION:2.0
PRODID:-//eventon.com NONSGML v1.0//EN
CALSCALE:GREGORIAN
METHOD:PUBLISH
BEGIN:VEVENT
UID:69e73760dbbce
DTSTAMP:20260421T083752Z
DTSTART:20181007T150000Z
DTEND:20181007T160000Z
LOCATION:Sala della Biblioteca
SUMMARY:Presentazione a cura di Biblioteca dei Leoni Ed.
DESCRIPTION:Presentazione del libro di Odilla Danieli\,  Furin Furetto\,  i
 nvestigatore strappa guai\,  con l’illustratrice Naomi Trevisson BIBLIOTE
 CA DEI LEONI Ed.\nhttps://www.libriincantina.it/events/danieli-biblioteca-d
 ei-leoni-ed/
URL:https://www.libriincantina.it/events/danieli-biblioteca-dei-leoni-ed/
END:VEVENT
END:VCALENDAR